BEGIN:VCALENDAR
VERSION:2.0
CALSCALE:GREGORIAN
PRODID:-//Diputació de Barcelona//DibaCMS//EN
BEGIN:VEVENT
UID:17821
DTSTAMP:20260425T233458
DTSTART:20241213T190000
DTEND:20241213T210000
SUMMARY:Cuina per a les festes
LOCATION:Centre d’Arts i Noves Tecnologies Can Font 
METHOD:PUBLISH
X-WR-CALNAME:ajuntament@lesfranqueses.cat
X-WR-TIMEZONE:Europe/Madrid
DESCRIPTION:
URI:https://www.lesfranqueses.cat/actualitat/agenda/agenda-dactivitats/cuina-per-a-les-festes.html
CLASS:PUBLIC
END:VEVENT
END:VCALENDAR
