BEGIN:VCALENDAR
VERSION:2.0
CALSCALE:GREGORIAN
PRODID:-//Diputació de Barcelona//DibaCMS//EN
BEGIN:VEVENT
UID:17820
DTSTAMP:20260425T210806
DTSTART:20241213T180000
DTEND:20241213T200000
SUMMARY:Inauguració de la Fira de Nadal
LOCATION:Plaça de l’Espolsada (En cas de pluja, l’activitat es farà al Casal Cultural de Corró d’Avall.) 
METHOD:PUBLISH
X-WR-CALNAME:ajuntament@lesfranqueses.cat
X-WR-TIMEZONE:Europe/Madrid
DESCRIPTION:
URI:https://www.lesfranqueses.cat/actualitat/agenda/agenda-dactivitats/inauguracio-de-la-fira-de-nadal.html
CLASS:PUBLIC
END:VEVENT
END:VCALENDAR
