BEGIN:VCALENDAR
VERSION:2.0
CALSCALE:GREGORIAN
PRODID:-//Diputació de Barcelona//DibaCMS//EN
BEGIN:VEVENT
UID:17818
DTSTAMP:20260425T210915
DTSTART:20241212T173000
DTEND:20241212T173000
SUMMARY:Hora del conte: Ding, dong!  
LOCATION:Biblioteca Municipal  de Corró d’Avall 
METHOD:PUBLISH
X-WR-CALNAME:ajuntament@lesfranqueses.cat
X-WR-TIMEZONE:Europe/Madrid
DESCRIPTION:
URI:https://www.lesfranqueses.cat/actualitat/agenda/agenda-dactivitats/hora-del-conte-ding-dong-.html
CLASS:PUBLIC
END:VEVENT
END:VCALENDAR
