BEGIN:VCALENDAR
VERSION:2.0
CALSCALE:GREGORIAN
PRODID:-//Diputació de Barcelona//DibaCMS//EN
BEGIN:VEVENT
UID:17813
DTSTAMP:20260426T004752
DTSTART:20241215T170000
DTEND:20241215T190000
SUMMARY:Gran espectacle de Nadal Scrooge
LOCATION:Centre Cultural de Bellavista. Carrer de Maria Elena Maseras, 1 08520 Les Franqueses del Vallès (Bellavista)
METHOD:PUBLISH
X-WR-CALNAME:ajuntament@lesfranqueses.cat
X-WR-TIMEZONE:Europe/Madrid
DESCRIPTION:
URI:https://www.lesfranqueses.cat/actualitat/agenda/agenda-dactivitats/gran-espectacle-de-nadal-scrooge.html
CLASS:PUBLIC
END:VEVENT
END:VCALENDAR
