BEGIN:VCALENDAR
VERSION:2.0
CALSCALE:GREGORIAN
PRODID:-//Diputació de Barcelona//DibaCMS//EN
BEGIN:VEVENT
UID:17812
DTSTAMP:20260426T004812
DTSTART:20241215T130000
DTEND:20241215T190000
SUMMARY:Celebrem el Nadal
LOCATION:Antigues Escoles de Corró d’Amunt 
METHOD:PUBLISH
X-WR-CALNAME:ajuntament@lesfranqueses.cat
X-WR-TIMEZONE:Europe/Madrid
DESCRIPTION:
URI:https://www.lesfranqueses.cat/actualitat/agenda/agenda-dactivitats/celebrem-el-nadal.html
CLASS:PUBLIC
END:VEVENT
END:VCALENDAR
