BEGIN:VCALENDAR
VERSION:2.0
CALSCALE:GREGORIAN
PRODID:-//Diputació de Barcelona//DibaCMS//EN
BEGIN:VEVENT
UID:17809
DTSTAMP:20260426T021918
DTSTART:20241213T200000
DTEND:20241213T200000
SUMMARY:Xerrada i observació astronòmica. Mirem el cel
LOCATION:Aula de Natura del Falgar 
METHOD:PUBLISH
X-WR-CALNAME:ajuntament@lesfranqueses.cat
X-WR-TIMEZONE:Europe/Madrid
DESCRIPTION:
URI:https://www.lesfranqueses.cat/actualitat/agenda/agenda-dactivitats/xerrada-i-observacio-astronomica-mirem-el-cel.html
CLASS:PUBLIC
END:VEVENT
END:VCALENDAR
