BEGIN:VCALENDAR
VERSION:2.0
CALSCALE:GREGORIAN
PRODID:-//Diputació de Barcelona//DibaCMS//EN
BEGIN:VEVENT
UID:17806
DTSTAMP:20260425T211129
DTSTART:20241213T173000
DTEND:20241213T193000
SUMMARY:Espai Zero. Taller de fotografia analògica
LOCATION:Carrer de Maria Elena Maseras, 1 08521 Les Franqueses del Vallès (Bellavista)
METHOD:PUBLISH
X-WR-CALNAME:ajuntament@lesfranqueses.cat
X-WR-TIMEZONE:Europe/Madrid
DESCRIPTION:
URI:https://www.lesfranqueses.cat/actualitat/agenda/agenda-dactivitats/17806-espai-zero-taller-de-fotografia-analogica.html
CLASS:PUBLIC
END:VEVENT
END:VCALENDAR
