BEGIN:VCALENDAR
VERSION:2.0
CALSCALE:GREGORIAN
PRODID:-//Diputació de Barcelona//DibaCMS//EN
BEGIN:VEVENT
UID:17804
DTSTAMP:20260426T060556
DTSTART:20241203T190000
DTEND:20241203T210000
SUMMARY:Xerrada sobre el Camp d’Aviació de Llerona (Rosanes)
LOCATION:
METHOD:PUBLISH
X-WR-CALNAME:ajuntament@lesfranqueses.cat
X-WR-TIMEZONE:Europe/Madrid
DESCRIPTION:
URI:https://www.lesfranqueses.cat/actualitat/agenda/agenda-dactivitats/xerrada-sobre-el-camp-daviacio-de-llerona-rosanes.html
CLASS:PUBLIC
END:VEVENT
END:VCALENDAR
