BEGIN:VCALENDAR
VERSION:2.0
CALSCALE:GREGORIAN
PRODID:-//Diputació de Barcelona//DibaCMS//EN
BEGIN:VEVENT
UID:17765
DTSTAMP:20260425T172317
DTSTART:20241124T110000
DTEND:20241124T110000
SUMMARY:Contacontes i taller de caixes niu
LOCATION:Aula de natura del parc del Falgar 
METHOD:PUBLISH
X-WR-CALNAME:ajuntament@lesfranqueses.cat
X-WR-TIMEZONE:Europe/Madrid
DESCRIPTION:
URI:https://www.lesfranqueses.cat/actualitat/agenda/agenda-dactivitats/contacontes-i-taller-de-caixes-niu.html
CLASS:PUBLIC
END:VEVENT
END:VCALENDAR
