BEGIN:VCALENDAR
VERSION:2.0
CALSCALE:GREGORIAN
PRODID:-//Diputació de Barcelona//DibaCMS//EN
BEGIN:VEVENT
UID:17739
DTSTAMP:20260425T195427
DTSTART:20241110T090000
DTEND:20241110T090000
SUMMARY:Caminada Popular de Llerona 
LOCATION:Carpa del Consell del Poble de Llerona  
METHOD:PUBLISH
X-WR-CALNAME:ajuntament@lesfranqueses.cat
X-WR-TIMEZONE:Europe/Madrid
DESCRIPTION:
URI:https://www.lesfranqueses.cat/actualitat/agenda/agenda-dactivitats/caminada-popular-de-llerona-.html
CLASS:PUBLIC
END:VEVENT
END:VCALENDAR
