BEGIN:VCALENDAR
VERSION:2.0
CALSCALE:GREGORIAN
PRODID:-//Diputació de Barcelona//DibaCMS//EN
BEGIN:VEVENT
UID:17735
DTSTAMP:20260425T210929
DTSTART:20241125T173000
DTEND:20241125T183000
SUMMARY:Envellir Bellament. Explicació del programa 
LOCATION:Passeig d'Extremadura, s/n 08521 Les Franqueses del Vallès (Bellavista)
METHOD:PUBLISH
X-WR-CALNAME:ajuntament@lesfranqueses.cat
X-WR-TIMEZONE:Europe/Madrid
DESCRIPTION:
URI:https://www.lesfranqueses.cat/actualitat/agenda/agenda-dactivitats/envellir-bellament-explicacio-del-programa-.html
CLASS:PUBLIC
END:VEVENT
END:VCALENDAR
