BEGIN:VCALENDAR
VERSION:2.0
CALSCALE:GREGORIAN
PRODID:-//Diputació de Barcelona//DibaCMS//EN
BEGIN:VEVENT
UID:17728
DTSTAMP:20260425T145909
DTSTART:20241106T000000
DTEND:20241106T000000
SUMMARY:Conversa prèvia a l’obra de Teatre Frederick on es parlarà sobre la figura de Leo Leonni
LOCATION:
METHOD:PUBLISH
X-WR-CALNAME:ajuntament@lesfranqueses.cat
X-WR-TIMEZONE:Europe/Madrid
DESCRIPTION:
URI:https://www.lesfranqueses.cat/actualitat/agenda/agenda-dactivitats/17728-conversa-previa-a-lobra-de-teatre-frederick-on-es-parlara-sobre-la-figura-de-leo-leonni.html
CLASS:PUBLIC
END:VEVENT
END:VCALENDAR
