BEGIN:VCALENDAR
VERSION:2.0
CALSCALE:GREGORIAN
PRODID:-//Diputació de Barcelona//DibaCMS//EN
BEGIN:VEVENT
UID:17727
DTSTAMP:20260425T185923
DTSTART:20241120T160000
DTEND:20241120T180000
SUMMARY:25N: Taller "Roses against violence" 
LOCATION:Casal de la Gent Gran de Llerona 
METHOD:PUBLISH
X-WR-CALNAME:ajuntament@lesfranqueses.cat
X-WR-TIMEZONE:Europe/Madrid
DESCRIPTION:Vine a fer la teva rosa de ganxet! Roses against violence és un projecte internacional que promou la creació de roses de ganxet de color morat com a símbol de rebuig a la violència masclista i de record a les víctimes de feminicidi.

Les roses que feu s’exposaran durant l’acte institucional del 25 de novembre, que tindrà lloc a les 13 h a la Plaça de l’Ajuntament de les Franqueses. Després, quedaran en aquest mateix espai com a símbol del compromís del municipi amb la lluita contra la violència masclista.

Els materials per fer el taller estaran disponibles, de manera que no caldrà portar res per participar-hi.

URI:https://www.lesfranqueses.cat/actualitat/agenda/agenda-dactivitats/25n-taller-roses-against-violence-.html
CLASS:PUBLIC
END:VEVENT
END:VCALENDAR
