BEGIN:VCALENDAR
VERSION:2.0
CALSCALE:GREGORIAN
PRODID:-//Diputació de Barcelona//DibaCMS//EN
BEGIN:VEVENT
UID:17726
DTSTAMP:20260425T160227
DTSTART:20241106T160000
DTEND:20241106T180000
SUMMARY:25N: Taller "Roses against violence"
LOCATION:Casal de la Gent Gran de Llerona 
METHOD:PUBLISH
X-WR-CALNAME:ajuntament@lesfranqueses.cat
X-WR-TIMEZONE:Europe/Madrid
DESCRIPTION:
URI:https://www.lesfranqueses.cat/actualitat/agenda/agenda-dactivitats/17726-25n-taller-roses-against-violence.html
CLASS:PUBLIC
END:VEVENT
END:VCALENDAR
