BEGIN:VCALENDAR
VERSION:2.0
CALSCALE:GREGORIAN
PRODID:-//Diputació de Barcelona//DibaCMS//EN
BEGIN:VEVENT
UID:17724
DTSTAMP:20260425T223929
DTSTART:20241214T100000
DTEND:20241214T123000
SUMMARY:Dones i esport. Taller 4: Woman training. Empodera't 
LOCATION:Espai Can Prat 
METHOD:PUBLISH
X-WR-CALNAME:ajuntament@lesfranqueses.cat
X-WR-TIMEZONE:Europe/Madrid
DESCRIPTION:
URI:https://www.lesfranqueses.cat/actualitat/agenda/agenda-dactivitats/dones-i-esport-taller-4-woman-training-empoderat-.html
CLASS:PUBLIC
END:VEVENT
END:VCALENDAR
