BEGIN:VCALENDAR
VERSION:2.0
CALSCALE:GREGORIAN
PRODID:-//Diputació de Barcelona//DibaCMS//EN
BEGIN:VEVENT
UID:17723
DTSTAMP:20260425T195839
DTSTART:20241130T100000
DTEND:20241130T123000
SUMMARY:Dones i esport. Taller 3: Entrena i coneix el teu sòl pelvià
LOCATION:Espai Can Prat 
METHOD:PUBLISH
X-WR-CALNAME:ajuntament@lesfranqueses.cat
X-WR-TIMEZONE:Europe/Madrid
DESCRIPTION:
URI:https://www.lesfranqueses.cat/actualitat/agenda/agenda-dactivitats/dones-i-esport-taller-3-entrena-i-coneix-el-teu-sol-pelvia.html
CLASS:PUBLIC
END:VEVENT
END:VCALENDAR
