BEGIN:VCALENDAR
VERSION:2.0
CALSCALE:GREGORIAN
PRODID:-//Diputació de Barcelona//DibaCMS//EN
BEGIN:VEVENT
UID:17722
DTSTAMP:20260425T195721
DTSTART:20241123T100000
DTEND:20241123T123000
SUMMARY:Dones i esport. Taller 2: Cuida la teva esquena
LOCATION:Espai Can Prat 
METHOD:PUBLISH
X-WR-CALNAME:ajuntament@lesfranqueses.cat
X-WR-TIMEZONE:Europe/Madrid
DESCRIPTION: 

 

URI:https://www.lesfranqueses.cat/actualitat/agenda/agenda-dactivitats/dones-i-esport-taller-2-cuida-la-teva-esquena.html
CLASS:PUBLIC
END:VEVENT
END:VCALENDAR
