BEGIN:VCALENDAR
VERSION:2.0
CALSCALE:GREGORIAN
PRODID:-//Diputació de Barcelona//DibaCMS//EN
BEGIN:VEVENT
UID:17721
DTSTAMP:20260426T051108
DTSTART:20241116T100000
DTEND:20241116T123000
SUMMARY:Dones i esport. Taller 1: Descobreix i prova el tronc propioceptiu 
LOCATION:Espai Can Prat 
METHOD:PUBLISH
X-WR-CALNAME:ajuntament@lesfranqueses.cat
X-WR-TIMEZONE:Europe/Madrid
DESCRIPTION:
URI:https://www.lesfranqueses.cat/actualitat/agenda/agenda-dactivitats/dones-i-esport-taller-1-descobreix-i-prova-el-tronc-propioceptiu-.html
CLASS:PUBLIC
END:VEVENT
END:VCALENDAR
