BEGIN:VCALENDAR
VERSION:2.0
CALSCALE:GREGORIAN
PRODID:-//Diputació de Barcelona//DibaCMS//EN
BEGIN:VEVENT
UID:17717
DTSTAMP:20260425T195545
DTSTART:20241125T000000
DTEND:20241129T000000
SUMMARY: Setmana de la producció local
LOCATION:
METHOD:PUBLISH
X-WR-CALNAME:ajuntament@lesfranqueses.cat
X-WR-TIMEZONE:Europe/Madrid
DESCRIPTION:
URI:https://www.lesfranqueses.cat/actualitat/agenda/agenda-dactivitats/17717--setmana-de-la-produccio-local.html
CLASS:PUBLIC
END:VEVENT
END:VCALENDAR
