BEGIN:VCALENDAR
VERSION:2.0
CALSCALE:GREGORIAN
PRODID:-//Diputació de Barcelona//DibaCMS//EN
BEGIN:VEVENT
UID:17716
DTSTAMP:20260425T185658
DTSTART:20241126T190000
DTEND:20241126T190000
SUMMARY: Setmana de la producció local: Xerrada “L’agricultura i el canvi climàtic a les Franqueses del Vallès”
LOCATION:Camí Antic de Vic, 10 08520 Les Franqueses del Vallès
METHOD:PUBLISH
X-WR-CALNAME:ajuntament@lesfranqueses.cat
X-WR-TIMEZONE:Europe/Madrid
DESCRIPTION:
URI:https://www.lesfranqueses.cat/actualitat/agenda/agenda-dactivitats/-setmana-de-la-produccio-local-xerrada-lagricultura-i-el-canvi-climatic-a-les-franqueses-del-valles.html
CLASS:PUBLIC
END:VEVENT
END:VCALENDAR
