BEGIN:VCALENDAR
VERSION:2.0
CALSCALE:GREGORIAN
PRODID:-//Diputació de Barcelona//DibaCMS//EN
BEGIN:VEVENT
UID:17715
DTSTAMP:20260425T223613
DTSTART:20241129T093000
DTEND:20241129T093000
SUMMARY:Setmana de la producció local: Tres claus de l’èxit de l’empresa agroalimentària 
LOCATION:Camí Antic de Vic, 10 08520 Les Franqueses del Vallès
METHOD:PUBLISH
X-WR-CALNAME:ajuntament@lesfranqueses.cat
X-WR-TIMEZONE:Europe/Madrid
DESCRIPTION:
URI:https://www.lesfranqueses.cat/actualitat/agenda/agenda-dactivitats/setmana-de-la-produccio-local-tres-claus-de-lexit-de-lempresa-agroalimentaria-.html
CLASS:PUBLIC
END:VEVENT
END:VCALENDAR
