BEGIN:VCALENDAR
VERSION:2.0
CALSCALE:GREGORIAN
PRODID:-//Diputació de Barcelona//DibaCMS//EN
BEGIN:VEVENT
UID:17713
DTSTAMP:20260425T233741
DTSTART:20241130T090000
DTEND:20241130T210000
SUMMARY: PROGRAMA de la Setmana de la producció local
LOCATION:
METHOD:PUBLISH
X-WR-CALNAME:ajuntament@lesfranqueses.cat
X-WR-TIMEZONE:Europe/Madrid
DESCRIPTION:
URI:https://www.lesfranqueses.cat/actualitat/agenda/agenda-dactivitats/-programa-de-la-setmana-de-la-produccio-local.html
CLASS:PUBLIC
END:VEVENT
END:VCALENDAR
