BEGIN:VCALENDAR
VERSION:2.0
CALSCALE:GREGORIAN
PRODID:-//Diputació de Barcelona//DibaCMS//EN
BEGIN:VEVENT
UID:17712
DTSTAMP:20260425T173420
DTSTART:20241127T093000
DTEND:20241201T133000
SUMMARY: 25N: Un pensament per eliminar les violències masclistes.  Un pensament per eliminar les violències psicològiques  
LOCATION:
METHOD:PUBLISH
X-WR-CALNAME:ajuntament@lesfranqueses.cat
X-WR-TIMEZONE:Europe/Madrid
DESCRIPTION: 

 

URI:https://www.lesfranqueses.cat/actualitat/agenda/agenda-dactivitats/-25n-un-pensament-per-eliminar-les-violencies-masclistes-un-pensament-per-eliminar-les-violencies-psicologiques-.html
CLASS:PUBLIC
END:VEVENT
END:VCALENDAR
