BEGIN:VCALENDAR
VERSION:2.0
CALSCALE:GREGORIAN
PRODID:-//Diputació de Barcelona//DibaCMS//EN
BEGIN:VEVENT
UID:17711
DTSTAMP:20260425T224553
DTSTART:20241129T190000
DTEND:20241129T190000
SUMMARY:25N: Recital Alcem les veus contra les violències psicològiques
LOCATION:Centre Cultural de Bellavista. Carrer de Maria Elena Maseras, 1 08520 Les Franqueses del Vallès (Bellavista)
METHOD:PUBLISH
X-WR-CALNAME:ajuntament@lesfranqueses.cat
X-WR-TIMEZONE:Europe/Madrid
DESCRIPTION: 

 

URI:https://www.lesfranqueses.cat/actualitat/agenda/agenda-dactivitats/25n-recital-alcem-les-veus-contra-les-violencies-psicologiques.html
CLASS:PUBLIC
END:VEVENT
END:VCALENDAR
