BEGIN:VCALENDAR
VERSION:2.0
CALSCALE:GREGORIAN
PRODID:-//Diputació de Barcelona//DibaCMS//EN
BEGIN:VEVENT
UID:17710
DTSTAMP:20260425T185624
DTSTART:20241125T130000
DTEND:20241125T130000
SUMMARY:25N: Acte institucional 
LOCATION:Plaça de l'Ajuntament  
METHOD:PUBLISH
X-WR-CALNAME:ajuntament@lesfranqueses.cat
X-WR-TIMEZONE:Europe/Madrid
DESCRIPTION:
URI:https://www.lesfranqueses.cat/actualitat/agenda/agenda-dactivitats/25n-acte-institucional-.html
CLASS:PUBLIC
END:VEVENT
END:VCALENDAR
