BEGIN:VCALENDAR
VERSION:2.0
CALSCALE:GREGORIAN
PRODID:-//Diputació de Barcelona//DibaCMS//EN
BEGIN:VEVENT
UID:17709
DTSTAMP:20260425T183740
DTSTART:20241120T110000
DTEND:20241120T110000
SUMMARY:25N: Performance teatral al carrer «Onades de Dones» amb La Xixa.
LOCATION:Mercat de Bellavista  
METHOD:PUBLISH
X-WR-CALNAME:ajuntament@lesfranqueses.cat
X-WR-TIMEZONE:Europe/Madrid
DESCRIPTION:
 

 

URI:https://www.lesfranqueses.cat/actualitat/agenda/agenda-dactivitats/25n-performance-teatral-al-carrer-onades-de-dones-amb-la-xixa.html
CLASS:PUBLIC
END:VEVENT
END:VCALENDAR
