BEGIN:VCALENDAR
VERSION:2.0
CALSCALE:GREGORIAN
PRODID:-//Diputació de Barcelona//DibaCMS//EN
BEGIN:VEVENT
UID:17708
DTSTAMP:20260425T233703
DTSTART:20241213T180000
DTEND:20241213T180000
SUMMARY:Espais de lectura: Visita de l’escriptora Gemma Ruiz
LOCATION:Biblioteca Municipal de Corró d’Avall 
METHOD:PUBLISH
X-WR-CALNAME:ajuntament@lesfranqueses.cat
X-WR-TIMEZONE:Europe/Madrid
DESCRIPTION:
URI:https://www.lesfranqueses.cat/actualitat/agenda/agenda-dactivitats/espais-de-lectura-visita-de-lescriptora-gemma-ruiz.html
CLASS:PUBLIC
END:VEVENT
END:VCALENDAR
