BEGIN:VCALENDAR
VERSION:2.0
CALSCALE:GREGORIAN
PRODID:-//Diputació de Barcelona//DibaCMS//EN
BEGIN:VEVENT
UID:17707
DTSTAMP:20260425T212132
DTSTART:20241130T180000
DTEND:20241130T190000
SUMMARY:Encesa de llums de Nadal
LOCATION:
METHOD:PUBLISH
X-WR-CALNAME:ajuntament@lesfranqueses.cat
X-WR-TIMEZONE:Europe/Madrid
DESCRIPTION:
URI:https://www.lesfranqueses.cat/actualitat/agenda/agenda-dactivitats/encesa-de-llums-de-nadal.html
CLASS:PUBLIC
END:VEVENT
END:VCALENDAR
