BEGIN:VCALENDAR
VERSION:2.0
CALSCALE:GREGORIAN
PRODID:-//Diputació de Barcelona//DibaCMS//EN
BEGIN:VEVENT
UID:17706
DTSTAMP:20260426T004624
DTSTART:20241128T190000
DTEND:20241128T190000
SUMMARY:Ple Municipal 
LOCATION:Camí Antic de Vic, 10 08520 Les Franqueses del Vallès
METHOD:PUBLISH
X-WR-CALNAME:ajuntament@lesfranqueses.cat
X-WR-TIMEZONE:Europe/Madrid
DESCRIPTION:
URI:https://www.lesfranqueses.cat/actualitat/agenda/agenda-dactivitats/ple-municipal-.html
CLASS:PUBLIC
END:VEVENT
END:VCALENDAR
