BEGIN:VCALENDAR
VERSION:2.0
CALSCALE:GREGORIAN
PRODID:-//Diputació de Barcelona//DibaCMS//EN
BEGIN:VEVENT
UID:17704
DTSTAMP:20260425T235658
DTSTART:20241127T180000
DTEND:20241127T193000
SUMMARY:Xerrada: Parlem de sexualitat a casa? 
LOCATION:Biblioteca de l’Institut Lauro 
METHOD:PUBLISH
X-WR-CALNAME:ajuntament@lesfranqueses.cat
X-WR-TIMEZONE:Europe/Madrid
DESCRIPTION:
URI:https://www.lesfranqueses.cat/actualitat/agenda/agenda-dactivitats/xerrada-parlem-de-sexualitat-a-casa-.html
CLASS:PUBLIC
END:VEVENT
END:VCALENDAR
