BEGIN:VCALENDAR
VERSION:2.0
CALSCALE:GREGORIAN
PRODID:-//Diputació de Barcelona//DibaCMS//EN
BEGIN:VEVENT
UID:17699
DTSTAMP:20260425T224914
DTSTART:20241125T173000
DTEND:20241125T173000
SUMMARY:Hora del conte per a nadons: Cric-cata-crek
LOCATION:Biblioteca Municipal de Bellavista  
METHOD:PUBLISH
X-WR-CALNAME:ajuntament@lesfranqueses.cat
X-WR-TIMEZONE:Europe/Madrid
DESCRIPTION: 

 

URI:https://www.lesfranqueses.cat/actualitat/agenda/agenda-dactivitats/hora-del-conte-per-a-nadons-cric-cata-crek.html
CLASS:PUBLIC
END:VEVENT
END:VCALENDAR
