BEGIN:VCALENDAR
VERSION:2.0
CALSCALE:GREGORIAN
PRODID:-//Diputació de Barcelona//DibaCMS//EN
BEGIN:VEVENT
UID:17698
DTSTAMP:20260425T150012
DTSTART:20241105T000000
DTEND:20241105T000000
SUMMARY:Hora del conte per a nadons: Cric-crata-crek
LOCATION:
METHOD:PUBLISH
X-WR-CALNAME:ajuntament@lesfranqueses.cat
X-WR-TIMEZONE:Europe/Madrid
DESCRIPTION:
URI:https://www.lesfranqueses.cat/actualitat/agenda/agenda-dactivitats/17698-hora-del-conte-per-a-nadons-cric-crata-crek.html
CLASS:PUBLIC
END:VEVENT
END:VCALENDAR
