BEGIN:VCALENDAR
VERSION:2.0
CALSCALE:GREGORIAN
PRODID:-//Diputació de Barcelona//DibaCMS//EN
BEGIN:VEVENT
UID:17695
DTSTAMP:20260425T202406
DTSTART:20241123T180000
DTEND:20241123T193000
SUMMARY:Concerts del festival de gospel a les Franqueses
LOCATION:Carrer de Maria Elena Maseras, 1 08521 Les Franqueses del Vallès (Bellavista)
METHOD:PUBLISH
X-WR-CALNAME:ajuntament@lesfranqueses.cat
X-WR-TIMEZONE:Europe/Madrid
DESCRIPTION:
URI:https://www.lesfranqueses.cat/actualitat/agenda/agenda-dactivitats/concerts-del-festival-de-gospel-a-les-franqueses.html
CLASS:PUBLIC
END:VEVENT
END:VCALENDAR
