BEGIN:VCALENDAR
VERSION:2.0
CALSCALE:GREGORIAN
PRODID:-//Diputació de Barcelona//DibaCMS//EN
BEGIN:VEVENT
UID:17694
DTSTAMP:20260425T122040
DTSTART:20241105T000000
DTEND:20241105T000000
SUMMARY:Espais de lectura: La madre de Frankenstein
LOCATION:Biblioteca Municipal de Corró d’Avall 
METHOD:PUBLISH
X-WR-CALNAME:ajuntament@lesfranqueses.cat
X-WR-TIMEZONE:Europe/Madrid
DESCRIPTION:Tertúlia literària al voltant de la novel·la d’Almudena Grandes.

Sessió conduïda per Montserrat Lorente especialista en literatura espanyola i  hispanoamericana.
Públic: adult
Inscripció prèvia a la Biblioteca de Corró d’Avall, al 935 661 550 o a bibliotecacorro@lesfranqueses.cat

Org. Servei de Biblioteca Municipal

 

URI:https://www.lesfranqueses.cat/actualitat/agenda/agenda-dactivitats/17694-espais-de-lectura-la-madre-de-frankenstein.html
CLASS:PUBLIC
END:VEVENT
END:VCALENDAR
