BEGIN:VCALENDAR
VERSION:2.0
CALSCALE:GREGORIAN
PRODID:-//Diputació de Barcelona//DibaCMS//EN
BEGIN:VEVENT
UID:17692
DTSTAMP:20260425T185844
DTSTART:20241121T173000
DTEND:20241121T173000
SUMMARY:Espai zero. Treu profit a la càmera del mòbil
LOCATION:Carrer de Maria Elena Maseras, 1 08521 Les Franqueses del Vallès (Bellavista)
METHOD:PUBLISH
X-WR-CALNAME:ajuntament@lesfranqueses.cat
X-WR-TIMEZONE:Europe/Madrid
DESCRIPTION:Taller de fotografia, retoc, vídeo,efectes i Tik Tok.

Inscripció prèvia.

Més informació al 670 312 963 o a pij.franqueses@lesfranqueses.cat

URI:https://www.lesfranqueses.cat/actualitat/agenda/agenda-dactivitats/17692-espai-zero-treu-profit-a-la-camera-del-mobil.html
CLASS:PUBLIC
END:VEVENT
END:VCALENDAR
