BEGIN:VCALENDAR
VERSION:2.0
CALSCALE:GREGORIAN
PRODID:-//Diputació de Barcelona//DibaCMS//EN
BEGIN:VEVENT
UID:17691
DTSTAMP:20260425T202657
DTSTART:20241121T173000
DTEND:20241121T173000
SUMMARY:Laboratori de lectura: El rebost del cau
LOCATION:Biblioteca Municipal de Corró d’Avall. Espai Can Prat 
METHOD:PUBLISH
X-WR-CALNAME:ajuntament@lesfranqueses.cat
X-WR-TIMEZONE:Europe/Madrid
DESCRIPTION:
URI:https://www.lesfranqueses.cat/actualitat/agenda/agenda-dactivitats/laboratori-de-lectura-el-rebost-del-cau.html
CLASS:PUBLIC
END:VEVENT
END:VCALENDAR
