BEGIN:VCALENDAR
VERSION:2.0
CALSCALE:GREGORIAN
PRODID:-//Diputació de Barcelona//DibaCMS//EN
BEGIN:VEVENT
UID:17690
DTSTAMP:20260425T185808
DTSTART:20241121T153000
DTEND:20241121T153000
SUMMARY:Final del 1r Torneig de tenis taula de la gent gran. Les Franqueses, Vila Europea de l’Esport 2024
LOCATION:Avinguda de Santa Eulàlia, 7 08520 Les Franqueses del Vallès (Corró d'Avall)
METHOD:PUBLISH
X-WR-CALNAME:ajuntament@lesfranqueses.cat
X-WR-TIMEZONE:Europe/Madrid
DESCRIPTION:
URI:https://www.lesfranqueses.cat/actualitat/agenda/agenda-dactivitats/final-del-1r-torneig-de-tenis-taula-de-la-gent-gran-les-franqueses-vila-europea-de-lesport-2024.html
CLASS:PUBLIC
END:VEVENT
END:VCALENDAR
