BEGIN:VCALENDAR
VERSION:2.0
CALSCALE:GREGORIAN
PRODID:-//Diputació de Barcelona//DibaCMS//EN
BEGIN:VEVENT
UID:17687
DTSTAMP:20260425T201648
DTSTART:20241119T173000
DTEND:20241119T193000
SUMMARY:Espai zero. Treu profit a la càmera del mòbil
LOCATION:Carrer de Maria Elena Maseras, 1 08521 Les Franqueses del Vallès (Bellavista)
METHOD:PUBLISH
X-WR-CALNAME:ajuntament@lesfranqueses.cat
X-WR-TIMEZONE:Europe/Madrid
DESCRIPTION:
URI:https://www.lesfranqueses.cat/actualitat/agenda/agenda-dactivitats/17687-espai-zero-treu-profit-a-la-camera-del-mobil.html
CLASS:PUBLIC
END:VEVENT
END:VCALENDAR
