BEGIN:VCALENDAR
VERSION:2.0
CALSCALE:GREGORIAN
PRODID:-//Diputació de Barcelona//DibaCMS//EN
BEGIN:VEVENT
UID:17686
DTSTAMP:20260425T185011
DTSTART:20241119T180000
DTEND:20241119T180000
SUMMARY:Xerrada Dona i Esport. Les Franqueses Vila Europea de l’Esport 2024
LOCATION:Camí Antic de Vic, 10 08520 Les Franqueses del Vallès
METHOD:PUBLISH
X-WR-CALNAME:ajuntament@lesfranqueses.cat
X-WR-TIMEZONE:Europe/Madrid
DESCRIPTION:
URI:https://www.lesfranqueses.cat/actualitat/agenda/agenda-dactivitats/xerrada-dona-i-esport-les-franqueses-vila-europea-de-lesport-2024.html
CLASS:PUBLIC
END:VEVENT
END:VCALENDAR
