BEGIN:VCALENDAR
VERSION:2.0
CALSCALE:GREGORIAN
PRODID:-//Diputació de Barcelona//DibaCMS//EN
BEGIN:VEVENT
UID:17685
DTSTAMP:20260425T233849
DTSTART:20241117T100000
DTEND:20241117T100000
SUMMARY:Els 10km de les Franqueses 
LOCATION:
METHOD:PUBLISH
X-WR-CALNAME:ajuntament@lesfranqueses.cat
X-WR-TIMEZONE:Europe/Madrid
DESCRIPTION:
URI:https://www.lesfranqueses.cat/actualitat/agenda/agenda-dactivitats/els-10km-de-les-franqueses-.html
CLASS:PUBLIC
END:VEVENT
END:VCALENDAR
