BEGIN:VCALENDAR
VERSION:2.0
CALSCALE:GREGORIAN
PRODID:-//Diputació de Barcelona//DibaCMS//EN
BEGIN:VEVENT
UID:17684
DTSTAMP:20260426T022004
DTSTART:20241117T083000
DTEND:20241117T083000
SUMMARY:Movember Gravel Vallès Oriental
LOCATION:Sortida i arribada: Zona Esportiva Municipal de Ciclisme
 
METHOD:PUBLISH
X-WR-CALNAME:ajuntament@lesfranqueses.cat
X-WR-TIMEZONE:Europe/Madrid
DESCRIPTION:
URI:https://www.lesfranqueses.cat/actualitat/agenda/agenda-dactivitats/movember-gravel-valles-oriental.html
CLASS:PUBLIC
END:VEVENT
END:VCALENDAR
