BEGIN:VCALENDAR
VERSION:2.0
CALSCALE:GREGORIAN
PRODID:-//Diputació de Barcelona//DibaCMS//EN
BEGIN:VEVENT
UID:17683
DTSTAMP:20260426T021628
DTSTART:20241116T183000
DTEND:20241116T183000
SUMMARY:Espectacle infantil i familiar. Frederick. Cia.Teatre al Detall
LOCATION:Centre Cultural de Bellavista. Carrer de Maria Elena Maseras, 1 08520 Les Franqueses del Vallès (Bellavista)
METHOD:PUBLISH
X-WR-CALNAME:ajuntament@lesfranqueses.cat
X-WR-TIMEZONE:Europe/Madrid
DESCRIPTION: 

 

URI:https://www.lesfranqueses.cat/actualitat/agenda/agenda-dactivitats/17683-espectacle-infantil-i-familiar-frederick-ciateatre-al-detall.html
CLASS:PUBLIC
END:VEVENT
END:VCALENDAR
