BEGIN:VCALENDAR
VERSION:2.0
CALSCALE:GREGORIAN
PRODID:-//Diputació de Barcelona//DibaCMS//EN
BEGIN:VEVENT
UID:17682
DTSTAMP:20260425T143612
DTSTART:20241104T000000
DTEND:20241104T000000
SUMMARY:Espectacle infantil i familiar. Frederick. cia.teatre al detall
LOCATION:Centre Cultural de Bellavista. Carrer de Maria Elena Maseras, 1 08520 Les Franqueses del Vallès (Bellavista)
METHOD:PUBLISH
X-WR-CALNAME:ajuntament@lesfranqueses.cat
X-WR-TIMEZONE:Europe/Madrid
DESCRIPTION:NFANTIL I FAMILIAR / Durada: 50 minuts / Recomanat a partir de 3 anys
Preu: general 6 € / reduït 5 €*
DIRECCIÓ I ESCENOGRAFIA: Toti Toronell
INTERPRETACIÓ: Xavi Idàñez i Txell Botey.
Activitat 360o: Xerrada sobre la figura de Leo Lionni, autor de Frederick, a càrrec de Piu Martínez. Més informació i inscripcions en el Servei de Biblioteca Municipal.
Amb la col·laboració del Servei de Biblioteca Municipal de les Franqueses del Vallès.

URI:https://www.lesfranqueses.cat/actualitat/agenda/agenda-dactivitats/espectacle-infantil-i-familiar-frederick-ciateatre-al-detall.html
CLASS:PUBLIC
END:VEVENT
END:VCALENDAR
