BEGIN:VCALENDAR
VERSION:2.0
CALSCALE:GREGORIAN
PRODID:-//Diputació de Barcelona//DibaCMS//EN
BEGIN:VEVENT
UID:17678
DTSTAMP:20260426T044709
DTSTART:20241116T110000
DTEND:20241116T110000
SUMMARY:XII Festa de la infància 
LOCATION:Plaça Major de Bellavista  
METHOD:PUBLISH
X-WR-CALNAME:ajuntament@lesfranqueses.cat
X-WR-TIMEZONE:Europe/Madrid
DESCRIPTION:
URI:https://www.lesfranqueses.cat/actualitat/agenda/agenda-dactivitats/xii-festa-de-la-infancia-.html
CLASS:PUBLIC
END:VEVENT
END:VCALENDAR
