BEGIN:VCALENDAR
VERSION:2.0
CALSCALE:GREGORIAN
PRODID:-//Diputació de Barcelona//DibaCMS//EN
BEGIN:VEVENT
UID:17674
DTSTAMP:20260426T060755
DTSTART:20241114T173000
DTEND:20241114T193000
SUMMARY:Taller masculinitats 
LOCATION:Sala d’actes de l’Espai Can Prat 
METHOD:PUBLISH
X-WR-CALNAME:ajuntament@lesfranqueses.cat
X-WR-TIMEZONE:Europe/Madrid
DESCRIPTION:
URI:https://www.lesfranqueses.cat/actualitat/agenda/agenda-dactivitats/taller-masculinitats-.html
CLASS:PUBLIC
END:VEVENT
END:VCALENDAR
