BEGIN:VCALENDAR
VERSION:2.0
CALSCALE:GREGORIAN
PRODID:-//Diputació de Barcelona//DibaCMS//EN
BEGIN:VEVENT
UID:17673
DTSTAMP:20260426T010332
DTSTART:20241114T173000
DTEND:20241114T193000
SUMMARY:Espai zero. Treu profit a la càmera del mòbil
LOCATION:Carrer de Maria Elena Maseras, 1 08521 Les Franqueses del Vallès (Bellavista)
METHOD:PUBLISH
X-WR-CALNAME:ajuntament@lesfranqueses.cat
X-WR-TIMEZONE:Europe/Madrid
DESCRIPTION: 

 

URI:https://www.lesfranqueses.cat/actualitat/agenda/agenda-dactivitats/espai-zero-treu-profit-a-la-camera-del-mobil.html
CLASS:PUBLIC
END:VEVENT
END:VCALENDAR
