BEGIN:VCALENDAR
VERSION:2.0
CALSCALE:GREGORIAN
PRODID:-//Diputació de Barcelona//DibaCMS//EN
BEGIN:VEVENT
UID:17669
DTSTAMP:20260425T172728
DTSTART:20241109T180000
DTEND:20241109T180000
SUMMARY:Espectacle infantil i familiar. Apis simfònica, la tresca i la verdesca
LOCATION:Centre Cultural de Bellavista. Carrer de Maria Elena Maseras, 1 08520 Les Franqueses del Vallès (Bellavista)
METHOD:PUBLISH
X-WR-CALNAME:ajuntament@lesfranqueses.cat
X-WR-TIMEZONE:Europe/Madrid
DESCRIPTION:
URI:https://www.lesfranqueses.cat/actualitat/agenda/agenda-dactivitats/espectacle-infantil-i-familiar-apis-simfonica-la-tresca-i-la-verdesca.html
CLASS:PUBLIC
END:VEVENT
END:VCALENDAR
