BEGIN:VCALENDAR
VERSION:2.0
CALSCALE:GREGORIAN
PRODID:-//Diputació de Barcelona//DibaCMS//EN
BEGIN:VEVENT
UID:17667
DTSTAMP:20260425T195737
DTSTART:20241107T173000
DTEND:20241107T193000
SUMMARY:Espai Zero. Punt de trobada 
LOCATION:Carrer de Maria Elena Maseras, 1 08521 Les Franqueses del Vallès (Bellavista)
METHOD:PUBLISH
X-WR-CALNAME:ajuntament@lesfranqueses.cat
X-WR-TIMEZONE:Europe/Madrid
DESCRIPTION:
URI:https://www.lesfranqueses.cat/actualitat/agenda/agenda-dactivitats/espai-zero-punt-de-trobada-.html
CLASS:PUBLIC
END:VEVENT
END:VCALENDAR
