BEGIN:VCALENDAR
VERSION:2.0
CALSCALE:GREGORIAN
PRODID:-//Diputació de Barcelona//DibaCMS//EN
BEGIN:VEVENT
UID:17664
DTSTAMP:20260425T145844
DTSTART:20241104T160000
DTEND:20241104T160000
SUMMARY:Xerrada Esport per a la gent gran. Les Franqueses Vila Europea de l’Esport 2024
LOCATION:Casal d’Avis i Centre Social de Bellavista 
METHOD:PUBLISH
X-WR-CALNAME:ajuntament@lesfranqueses.cat
X-WR-TIMEZONE:Europe/Madrid
DESCRIPTION:A càrrec de Toni Cornellas, president de l’Associació Esportiva La Mitja

URI:https://www.lesfranqueses.cat/actualitat/agenda/agenda-dactivitats/xerrada-esport-per-a-la-gent-gran-les-franqueses-vila-europea-de-lesport-2024.html
CLASS:PUBLIC
END:VEVENT
END:VCALENDAR
