BEGIN:VCALENDAR
VERSION:2.0
CALSCALE:GREGORIAN
PRODID:-//Diputació de Barcelona//DibaCMS//EN
BEGIN:VEVENT
UID:17663
DTSTAMP:20260425T134141
DTSTART:20241102T180000
DTEND:20241102T180000
SUMMARY:Espectacle infantil i familiar. El viatge de l’elefanta Sara
LOCATION:Casal Cultural de Corró d’Avall
 
METHOD:PUBLISH
X-WR-CALNAME:ajuntament@lesfranqueses.cat
X-WR-TIMEZONE:Europe/Madrid
DESCRIPTION:
URI:https://www.lesfranqueses.cat/actualitat/agenda/agenda-dactivitats/17663-espectacle-infantil-i-familiar-el-viatge-de-lelefanta-sara.html
CLASS:PUBLIC
END:VEVENT
END:VCALENDAR
